BEGIN:VCALENDAR
VERSION:2.0
PRODID:-//https://www.eac.int///NONSGML kigkonsult.se iCalcreator 2.10.15//
METHOD:PUBLISH
BEGIN:VEVENT
UID:20211023T141720UTC-60292TrzcB@https://www.eac.int/
DTSTAMP:20211023T141720Z
DESCRIPTION: https://www.eac.int/news-and-media/calendar-of-events/event/79
 0-eac-user-satisfaction-survey-questionnaire-validation-workshop
DTSTART:20210929T060000Z
DTEND:20211001T140000Z
LOCATION:Dar es Salaam\, Tanzania (Dar es Salaam\, Tanzania)
SUMMARY:EAC User Satisfaction Survey Questionnaire  Validation Workshop 
URL:https://www.eac.int/news-and-media/calendar-of-events/event/790-eac-use
 r-satisfaction-survey-questionnaire-validation-workshop
END:VEVENT
END:VCALENDAR
