BEGIN:VCALENDAR
VERSION:2.0
PRODID:-//https://www.eac.int///NONSGML kigkonsult.se iCalcreator 2.10.15//
METHOD:PUBLISH
BEGIN:VEVENT
UID:20211023T141649UTC-7717U8vEi9@https://www.eac.int/
DTSTAMP:20211023T141649Z
DESCRIPTION: https://www.eac.int/news-and-media/calendar-of-events/event/78
 8-regional-validation-of-draft-protocols-for-biocontrol-agents-and-biopest
 icides-and-draft-guidelines-on-emergency-registration-of-pesticides
DTSTART:20210928T060000Z
DTEND:20210929T140000Z
LOCATION:Dar es Salaam\, Tanzania (Dar es Salaam\, Tanzania)
SUMMARY:Regional Validation of  Draft Protocols for  Biocontrol Agents and 
  Biopesticides and Draft  Guidelines on  Emergency  Registration of  Pesti
 cides
URL:https://www.eac.int/news-and-media/calendar-of-events/event/788-regiona
 l-validation-of-draft-protocols-for-biocontrol-agents-and-biopesticides-an
 d-draft-guidelines-on-emergency-registration-of-pesticides
END:VEVENT
END:VCALENDAR
