BEGIN:VCALENDAR
VERSION:2.0
PRODID:-//https://www.eac.int///NONSGML kigkonsult.se iCalcreator 2.10.15//
METHOD:PUBLISH
BEGIN:VEVENT
UID:20211023T141541UTC-45684cbCUI@https://www.eac.int/
DTSTAMP:20211023T141541Z
DESCRIPTION: https://www.eac.int/news-and-media/calendar-of-events/event/78
 7-training-of-prisons-and-correctional-officers-and-meeting-of-heads-of-pr
 isons-and-correctional-officers
DTSTART:20210927T060000Z
DTEND:20211006T140000Z
LOCATION:Dar es Salaam\, Tanzania (Dar es Salaam\, Tanzania)
SUMMARY:Training of Prisons and Correctional Officers and Meeting of Heads 
 of Prisons and Correctional Officers
URL:https://www.eac.int/news-and-media/calendar-of-events/event/787-trainin
 g-of-prisons-and-correctional-officers-and-meeting-of-heads-of-prisons-and
 -correctional-officers
END:VEVENT
END:VCALENDAR
