BEGIN:VCALENDAR
VERSION:2.0
PRODID:-//https://www.eac.int///NONSGML kigkonsult.se iCalcreator 2.10.15//
METHOD:PUBLISH
BEGIN:VEVENT
UID:20211023T141529UTC-1447tOTjhD@https://www.eac.int/
DTSTAMP:20211023T141529Z
DESCRIPTION: https://www.eac.int/news-and-media/calendar-of-events/event/78
 5-validation-of-draft-harmonised-regional-tvet-qualification-framework-and
 -occupational-standards
DTSTART:20210927T060000Z
DTEND:20210929T140000Z
LOCATION:Nairobi\, Kenya (Nairobi\, Kenya)
SUMMARY:Validation of Draft  Harmonised Regional TVET Qualification  Framew
 ork and  Occupational  Standards  
URL:https://www.eac.int/news-and-media/calendar-of-events/event/785-validat
 ion-of-draft-harmonised-regional-tvet-qualification-framework-and-occupati
 onal-standards
END:VEVENT
END:VCALENDAR
