BEGIN:VCALENDAR
VERSION:2.0
PRODID:-//https://www.eac.int///NONSGML kigkonsult.se iCalcreator 2.10.15//
METHOD:PUBLISH
BEGIN:VEVENT
UID:20210914T210110UTC-9581a9fX1B@https://www.eac.int/
DTSTAMP:20210914T210110Z
DESCRIPTION: https://www.eac.int/news-and-media/calendar-of-events/event/78
 0-2nd-east-africa-bioeconomy-conference
DTSTART:20211110T060000Z
DTEND:20211111T140000Z
LOCATION:Video Conference ()
SUMMARY:2nd East Africa Bioeconomy Conference
URL:https://www.eac.int/news-and-media/calendar-of-events/event/780-2nd-eas
 t-africa-bioeconomy-conference
END:VEVENT
END:VCALENDAR
