BEGIN:VCALENDAR
VERSION:2.0
PRODID:-//https://www.eac.int///NONSGML kigkonsult.se iCalcreator 2.10.15//
METHOD:PUBLISH
BEGIN:VEVENT
UID:20210914T210127UTC-3078bOMm71@https://www.eac.int/
DTSTAMP:20210914T210127Z
DESCRIPTION: https://www.eac.int/news-and-media/calendar-of-events/event/77
 9-8th-east-africa-health-and-scientific-conference-and-international-healt
 h-exhibition-and-trade-fair-eahsc
DTSTART:20211117T060000Z
DTEND:20211119T140000Z
LOCATION:Nairobi\, Kenya (Nairobi\, Kenya)
SUMMARY:8th East Africa Health and Scientific Conference and International 
 Health Exhibition and Trade Fair (EAHSC)
URL:https://www.eac.int/news-and-media/calendar-of-events/event/779-8th-eas
 t-africa-health-and-scientific-conference-and-international-health-exhibit
 ion-and-trade-fair-eahsc
END:VEVENT
END:VCALENDAR
