BEGIN:VCALENDAR
VERSION:2.0
PRODID:-//https://www.eac.int///NONSGML kigkonsult.se iCalcreator 2.10.15//
METHOD:PUBLISH
BEGIN:VEVENT
UID:20210605T191909UTC-5056zDzbCK@https://www.eac.int/
DTSTAMP:20210605T191909Z
DESCRIPTION: https://www.eac.int/news-and-media/calendar-of-events/event/74
 4-eala-plenary
DTSTART:20210524T113000Z
DTEND:20210524T140000Z
LOCATION:Video Conference ()
SUMMARY:EALA Plenary
URL:https://www.eac.int/news-and-media/calendar-of-events/event/744-eala-pl
 enary
END:VEVENT
END:VCALENDAR
