BEGIN:VCALENDAR
VERSION:2.0
PRODID:-//https://www.eac.int///NONSGML kigkonsult.se iCalcreator 2.10.15//
METHOD:PUBLISH
BEGIN:VEVENT
UID:20210518T091258UTC-5537ivUJAG@https://www.eac.int/
DTSTAMP:20210518T091258Z
DESCRIPTION:Main Theme:\nTechnology for health systems transformation and a
 ttainment of the UN-Sustainable Development Goals\nKey Note Speech:\nInves
 t in Digital Health to catalyze East Africa to attain the UN-Sustainable D
 evelopment Goals\n&nbsp\;\nFor more Information visit: https://conferences
 .eahealth.org/\n&nbsp\; https://www.eac.int/news-and-media/calendar-of-eve
 nts/event/149-east-africa-health-scientific-conference
DTSTART:20190327T060000Z
DTEND:20190329T140000Z
LOCATION:Dar es Salaam\, Tanzania (Dar es Salaam\, Tanzania)
SUMMARY:East Africa Health & Scientific Conference
URL:https://www.eac.int/news-and-media/calendar-of-events/event/149-east-af
 rica-health-scientific-conference
END:VEVENT
END:VCALENDAR
