BEGIN:VCALENDAR
VERSION:2.0
PRODID:-//https://www.eac.int///NONSGML kigkonsult.se iCalcreator 2.10.15//
METHOD:PUBLISH
BEGIN:VEVENT
UID:20210613T064305UTC-6350VjiVjg@https://www.eac.int/
DTSTAMP:20210613T064305Z
DESCRIPTION: https://www.eac.int/component/rseventspro/event/750-sectoral-c
 ouncil-on-agriculture-and-food-security
DTSTART:20210624T060000Z
DTEND:20210625T140000Z
LOCATION:Video Conference ()
SUMMARY:Sectoral Council on Agriculture and Food Security
URL:https://www.eac.int/component/rseventspro/event/750-sectoral-council-on
 -agriculture-and-food-security
END:VEVENT
END:VCALENDAR
