BEGIN:VCALENDAR
VERSION:2.0
PRODID:-//https://www.eac.int///NONSGML kigkonsult.se iCalcreator 2.10.15//
METHOD:PUBLISH
BEGIN:VEVENT
UID:20210613T064325UTC-4381UjwRdv@https://www.eac.int/
DTSTAMP:20210613T064325Z
DESCRIPTION: https://www.eac.int/component/rseventspro/event/749-eac-sector
 al-council-on-gender-and-community-development
DTSTART:20210607T060000Z
DTEND:20210611T140000Z
LOCATION:Video Conference ()
SUMMARY:EAC Sectoral Council on Gender and Community Development
URL:https://www.eac.int/component/rseventspro/event/749-eac-sectoral-counci
 l-on-gender-and-community-development
END:VEVENT
END:VCALENDAR
