BEGIN:VCALENDAR
VERSION:2.0
PRODID:-//https://www.eac.int///NONSGML kigkonsult.se iCalcreator 2.10.15//
METHOD:PUBLISH
BEGIN:VEVENT
UID:20210613T064341UTC-5076OUMRff@https://www.eac.int/
DTSTAMP:20210613T064341Z
DESCRIPTION: https://www.eac.int/component/rseventspro/event/748-easteco-na
 tional-consultative-meeting-for-the-3rd-e-health-and-telemedicine-conferen
 ce
DTSTART;VALUE=DATE:20210604
LOCATION:Video Conference ()
SUMMARY:EASTECO National Consultative Meeting for the 3rd e-Health and Tele
 medicine Conference
URL:https://www.eac.int/component/rseventspro/event/748-easteco-national-co
 nsultative-meeting-for-the-3rd-e-health-and-telemedicine-conference
END:VEVENT
END:VCALENDAR
